BEGIN:VCALENDAR
VERSION:2.0
PRODID:-//German American Conference at Harvard 2025 - ECPv6.7.0//NONSGML v1.0//EN
CALSCALE:GREGORIAN
METHOD:PUBLISH
X-ORIGINAL-URL:https://germanamericanconference.org
X-WR-CALDESC:Events for German American Conference at Harvard 2025
REFRESH-INTERVAL;VALUE=DURATION:PT1H
X-Robots-Tag:noindex
X-PUBLISHED-TTL:PT1H
BEGIN:VTIMEZONE
TZID:America/New_York
BEGIN:DAYLIGHT
TZOFFSETFROM:-0500
TZOFFSETTO:-0400
TZNAME:EDT
DTSTART:20230312T070000
END:DAYLIGHT
BEGIN:STANDARD
TZOFFSETFROM:-0400
TZOFFSETTO:-0500
TZNAME:EST
DTSTART:20231105T060000
END:STANDARD
END:VTIMEZONE
BEGIN:VEVENT
DTSTART;TZID=America/New_York:20231029T123000
DTEND;TZID=America/New_York:20231029T133000
DTSTAMP:20260423T190917
CREATED:20231004T154345Z
LAST-MODIFIED:20231023T094122Z
UID:10000075-1698582600-1698586200@germanamericanconference.org
SUMMARY:Lunch Break
DESCRIPTION:
URL:https://germanamericanconference.org/event/lunch-break-2
LOCATION:Harvard Kennedy School | Wintergarden\, 79 John F. Kennedy St\, Cambridge\, MA\, 02138\, United States
CATEGORIES:Refreshments
END:VEVENT
BEGIN:VEVENT
DTSTART;TZID=America/New_York:20231029T111500
DTEND;TZID=America/New_York:20231029T123000
DTSTAMP:20260423T190917
CREATED:20231004T154058Z
LAST-MODIFIED:20231023T093232Z
UID:10000072-1698578100-1698582600@germanamericanconference.org
SUMMARY:Food / Drink / Booths
DESCRIPTION:
URL:https://germanamericanconference.org/event/food-drink-booths-2
LOCATION:Harvard Kennedy School | Wintergarden\, 79 John F. Kennedy St\, Cambridge\, MA\, 02138\, United States
CATEGORIES:Refreshments,Social Event
END:VEVENT
BEGIN:VEVENT
DTSTART;TZID=America/New_York:20231029T104500
DTEND;TZID=America/New_York:20231029T111500
DTSTAMP:20260423T190917
CREATED:20231004T152907Z
LAST-MODIFIED:20231026T174112Z
UID:10000068-1698576300-1698578100@germanamericanconference.org
SUMMARY:Coffee Break
DESCRIPTION:
URL:https://germanamericanconference.org/event/coffee-break-5
LOCATION:Harvard Kennedy School\, 79 John F. Kennedy St\, Cambridge\, MA\, 02138\, United States
CATEGORIES:Refreshments
END:VEVENT
BEGIN:VEVENT
DTSTART;TZID=America/New_York:20231029T093000
DTEND;TZID=America/New_York:20231029T104500
DTSTAMP:20260423T190917
CREATED:20231004T152429Z
LAST-MODIFIED:20231023T093242Z
UID:10000065-1698571800-1698576300@germanamericanconference.org
SUMMARY:Food / Drink / Booths
DESCRIPTION:
URL:https://germanamericanconference.org/event/food-drink-booths
LOCATION:Harvard Kennedy School | Wintergarden\, 79 John F. Kennedy St\, Cambridge\, MA\, 02138\, United States
CATEGORIES:Refreshments,Social Event
END:VEVENT
BEGIN:VEVENT
DTSTART;TZID=America/New_York:20231028T161500
DTEND;TZID=America/New_York:20231028T163000
DTSTAMP:20260423T190917
CREATED:20231004T150200Z
LAST-MODIFIED:20231026T044241Z
UID:10000050-1698509700-1698510600@germanamericanconference.org
SUMMARY:Coffee Break
DESCRIPTION:
URL:https://germanamericanconference.org/event/coffee-break-4
LOCATION:Harvard Kennedy School\, 79 John F. Kennedy St\, Cambridge\, MA\, 02138\, United States
CATEGORIES:Refreshments
END:VEVENT
BEGIN:VEVENT
DTSTART;TZID=America/New_York:20231028T150000
DTEND;TZID=America/New_York:20231028T160000
DTSTAMP:20260423T190917
CREATED:20231004T025653Z
LAST-MODIFIED:20231027T004200Z
UID:10000046-1698505200-1698508800@germanamericanconference.org
SUMMARY:Food / Drinks
DESCRIPTION:
URL:https://germanamericanconference.org/event/food-drinks
LOCATION:Harvard Kennedy School | Wintergarden\, 79 John F. Kennedy St\, Cambridge\, MA\, 02138\, United States
CATEGORIES:Refreshments
END:VEVENT
BEGIN:VEVENT
DTSTART;TZID=America/New_York:20231028T133000
DTEND;TZID=America/New_York:20231028T144500
DTSTAMP:20260423T190917
CREATED:20231004T024616Z
LAST-MODIFIED:20231027T004125Z
UID:10000037-1698499800-1698504300@germanamericanconference.org
SUMMARY:Food / Drink
DESCRIPTION:
URL:https://germanamericanconference.org/event/food-drink-2
LOCATION:Harvard Kennedy School | Wintergarden\, 79 John F. Kennedy St\, Cambridge\, MA\, 02138\, United States
CATEGORIES:Refreshments
END:VEVENT
BEGIN:VEVENT
DTSTART;TZID=America/New_York:20231028T110000
DTEND;TZID=America/New_York:20231028T111500
DTSTAMP:20260423T190917
CREATED:20231004T022752Z
LAST-MODIFIED:20231026T174126Z
UID:10000024-1698490800-1698491700@germanamericanconference.org
SUMMARY:Coffee Break
DESCRIPTION:
URL:https://germanamericanconference.org/event/coffee-break-3
LOCATION:Harvard Kennedy School\, 79 John F. Kennedy St\, Cambridge\, MA\, 02138\, United States
CATEGORIES:Refreshments
END:VEVENT
BEGIN:VEVENT
DTSTART;TZID=America/New_York:20231027T154500
DTEND;TZID=America/New_York:20231027T160000
DTSTAMP:20260423T190917
CREATED:20231004T015142Z
LAST-MODIFIED:20231022T185240Z
UID:10000014-1698421500-1698422400@germanamericanconference.org
SUMMARY:Coffee Break
DESCRIPTION:
URL:https://germanamericanconference.org/event/coffee-break-2
LOCATION:Harvard Memorial Church | Main Hall\, 1 Harvard Yard\, Cambridge\, MA\, 02138\, United States
CATEGORIES:Refreshments
END:VEVENT
END:VCALENDAR