BEGIN:VCALENDAR
VERSION:2.0
PRODID:-//German American Conference at Harvard 2025 - ECPv6.7.0//NONSGML v1.0//EN
CALSCALE:GREGORIAN
METHOD:PUBLISH
X-ORIGINAL-URL:https://germanamericanconference.org
X-WR-CALDESC:Events for German American Conference at Harvard 2025
REFRESH-INTERVAL;VALUE=DURATION:PT1H
X-Robots-Tag:noindex
X-PUBLISHED-TTL:PT1H
BEGIN:VTIMEZONE
TZID:America/New_York
BEGIN:DAYLIGHT
TZOFFSETFROM:-0500
TZOFFSETTO:-0400
TZNAME:EDT
DTSTART:20230312T070000
END:DAYLIGHT
BEGIN:STANDARD
TZOFFSETFROM:-0400
TZOFFSETTO:-0500
TZNAME:EST
DTSTART:20231105T060000
END:STANDARD
END:VTIMEZONE
BEGIN:VEVENT
DTSTART;TZID=America/New_York:20231027T160000
DTEND;TZID=America/New_York:20231027T171500
DTSTAMP:20260422T105318
CREATED:20230930T134131Z
LAST-MODIFIED:20231027T010215Z
UID:10000008-1698422400-1698426900@germanamericanconference.org
SUMMARY:Panel: Hype or Hope: Can ESG transform the world of business?
DESCRIPTION:Introduction to the foundations of ESG\, its achievements so far\, as well as the areas where there is still potential for improvement\, where it might not be sufficient to solve current sustainability problems. A particular focus is placed on comparing the implementation of ESG in Europe and the USA on a global scale. \nWith Dr. Andreas Steinert\, Nicole Roettmer\, Roberto Rigobon and Georg Kell\, moderated by Robert Jacobi
URL:https://germanamericanconference.org/event/panel-demystifying-esg
LOCATION:Harvard Memorial Church | Buttrick Room\, 1 Harvard Yard\, Cambridge\, MA\, 02138\, United States
CATEGORIES:Panel
END:VEVENT
END:VCALENDAR